BEGIN:VCALENDAR
VERSION:2.0
PRODID:-//eventon.com NONSGML v1.0//EN
CALSCALE:GREGORIAN
METHOD:PUBLISH
BEGIN:VEVENT
UID:69ea2f5a0524f
DTSTAMP:20260423T144026Z
DTSTART:20240126T130000Z
DTEND:20240126T225000Z
LOCATION:
SUMMARY:'Israelis in Europe Combating Antisemitism' Conference in Berlin
DESCRIPTION:Since the shocking Hamas massacre that took place in Israel on 
 October 7th\,  there has been a sharp increase in cases of antisemitism thr
 oughout the world and in Europe in particular. To address this urgent threa
 t\,  the Israeli Community Europe (ICE) and Combat Antisemitism Movement (C
 AM) inviting Israelis living in[..]\nhttps://combatantisemitism.org/events/
 israelis-in-europe-combating-antisemitism/
URL:https://combatantisemitism.org/events/israelis-in-europe-combating-antisemitism/
END:VEVENT
END:VCALENDAR