BEGIN:VCALENDAR
VERSION:2.0
PRODID:-//eventon.com NONSGML v1.0//EN
CALSCALE:GREGORIAN
METHOD:PUBLISH
BEGIN:VEVENT
UID:69e75a5186c20
DTSTAMP:20260421T110657Z
DTSTART:20240407T183000Z
DTEND:20240408T035000Z
LOCATION:The National Mall\,  Washington\,  D.C.
SUMMARY:Six Months in Captivity: DC March to Free the Israeli Hostages
DESCRIPTION:They have no more time. We have no more excuses. March to bring
  them home now. On the six-month mark of their captivity\,  134 innocent pe
 ople from across the world are still being tortured\,  starved\,  and raped
  as hostages of Hamas\,  a U.S.-designated terrorist organization. Together
 \,  on Sunday\,  April 7th\, [..]\nhttps://combatantisemitism.org/events/si
 x-months-in-captivity-dc-march-to-free-the-israeli-hostages/
URL:https://combatantisemitism.org/events/six-months-in-captivity-dc-march-to-free-the-israeli-hostages/
END:VEVENT
END:VCALENDAR