BEGIN:VCALENDAR
VERSION:2.0
PRODID:-//eventon.com NONSGML v1.0//EN
CALSCALE:GREGORIAN
METHOD:PUBLISH
BEGIN:VEVENT
UID:69e89b41eaf4f
DTSTAMP:20260422T095617Z
DTSTART:20240520T230000Z
DTEND:20240521T035900Z
LOCATION:Center for Jewish History 15 West 16th Street
SUMMARY:'White Noise' Film Screening and Panel Conversation
DESCRIPTION:&#8220;White Noise\, &#8221; The Atlantic’s first feature do
 cumentary and journalist Daniel Lombroso’s feature film debut\,  is the 
 result of a four-year commitment to expose the roots of rising white nation
 alism in the U.S. and abroad. The film is a deeply reported journey through
  the underbelly of the alt-right\,  bringing viewers an unfiltered\,  clear
 -eyed[..]\nhttps://combatantisemitism.org/events/white-noise-film-screening
 -and-panel-conversation/
URL:https://combatantisemitism.org/events/white-noise-film-screening-and-panel-conversation/
END:VEVENT
END:VCALENDAR