BEGIN:VCALENDAR
VERSION:2.0
PRODID:-//eventon.com NONSGML v1.0//EN
CALSCALE:GREGORIAN
METHOD:PUBLISH
BEGIN:VEVENT
UID:69e8b0407b814
DTSTAMP:20260422T112552Z
DTSTART:20241030T160000Z
DTEND:20241030T164500Z
LOCATION:
SUMMARY:Israeli Wine Industry Under Threat: Stories of Resilience and Hope One Year After 10/7
DESCRIPTION:After a year of ongoing war\,  hear Israeli winemakers and indu
 stry professionals share their stories of resilience and hope\,  reflecting
  on the complex challenges they face today and their passionate visions for
  a better future. Over the past 12 months\,  since the tragic events of Oct
 ober 7\,  Israeli society has[..]\nhttps://combatantisemitism.org/events/ht
 tps-events-combatantisemitism-org-iwcrh/
URL:https://combatantisemitism.org/events/https-events-combatantisemitism-org-iwcrh/
END:VEVENT
END:VCALENDAR