BEGIN:VCALENDAR
VERSION:2.0
PRODID:-//eventon.com NONSGML v1.0//EN
CALSCALE:GREGORIAN
METHOD:PUBLISH
BEGIN:VEVENT
UID:69ea8a928448c
DTSTAMP:20260423T210938Z
DTSTART:20241103T180000Z
DTEND:20241104T045900Z
LOCATION:
SUMMARY:'So Laugh a Little': Inducting Molly Picon Into the Jewish American Hall of Fame
DESCRIPTION:The late Molly Picon. The late Molly Picon was an American actr
 ess of stage\,  screen\,  radio and television\,  as well as a lyricist and
  dramatic storyteller. She began her career in Yiddish theater and film\,  
 rising to a star\,  before transitioning into character roles in English-la
 nguage productions. She is most[..]\nhttps://combatantisemitism.org/events/
 so-laugh-a-little-inducting-molly-picon-into-the-jewish-american-hall-of-fa
 me/
URL:https://combatantisemitism.org/events/so-laugh-a-little-inducting-molly-picon-into-the-jewish-american-hall-of-fame/
END:VEVENT
END:VCALENDAR